BEGIN:VCALENDAR
VERSION:2.0
PRODID:-//The Mark at the Park - ECPv6.15.20//NONSGML v1.0//EN
CALSCALE:GREGORIAN
METHOD:PUBLISH
X-ORIGINAL-URL:https://themarkatthepark.com
X-WR-CALDESC:Events for The Mark at the Park
REFRESH-INTERVAL;VALUE=DURATION:PT1H
X-Robots-Tag:noindex
X-PUBLISHED-TTL:PT1H
BEGIN:VTIMEZONE
TZID:America/New_York
BEGIN:DAYLIGHT
TZOFFSETFROM:-0500
TZOFFSETTO:-0400
TZNAME:EDT
DTSTART:20250309T070000
END:DAYLIGHT
BEGIN:STANDARD
TZOFFSETFROM:-0400
TZOFFSETTO:-0500
TZNAME:EST
DTSTART:20251102T060000
END:STANDARD
BEGIN:DAYLIGHT
TZOFFSETFROM:-0500
TZOFFSETTO:-0400
TZNAME:EDT
DTSTART:20260308T070000
END:DAYLIGHT
BEGIN:STANDARD
TZOFFSETFROM:-0400
TZOFFSETTO:-0500
TZNAME:EST
DTSTART:20261101T060000
END:STANDARD
BEGIN:DAYLIGHT
TZOFFSETFROM:-0500
TZOFFSETTO:-0400
TZNAME:EDT
DTSTART:20270314T070000
END:DAYLIGHT
BEGIN:STANDARD
TZOFFSETFROM:-0400
TZOFFSETTO:-0500
TZNAME:EST
DTSTART:20271107T060000
END:STANDARD
END:VTIMEZONE
BEGIN:VEVENT
DTSTART;TZID=America/New_York:20260802T200000
DTEND;TZID=America/New_York:20260802T220000
DTSTAMP:20260421T222220
CREATED:20250717T183624Z
LAST-MODIFIED:20260409T120859Z
UID:1014-1785700800-1785708000@themarkatthepark.com
SUMMARY:The Mark Presents: The Eagles Project
DESCRIPTION:Don’t miss it! Saturday August 2\, 8pm A night of all your favorite Eagles songs performed by one of the premier Eagles Tribute Bands\, The Eagles Project. \n“Simply the best representation of Eagles music and their solo work\, period. The Eagles Project’s mastery of their instruments and vocals creates the best of the Eagles unlike any other tribute. “ \nThe Eagles Project presents the music as it should be\, true to the originals. Come see for yourself\, your ears will thank you! \nTickets only $20! Food and beverages will be available for sale. Bring your lawn chairs and blankets. Presented by Milestone Company\, Brightside Tavern\, and Encino Energy. \n 
URL:https://themarkatthepark.com/event/the-mark-presents-the-eagles-project/
LOCATION:The Mark at the Park at Sally Buffalo Park\, 43000 Industrial Park Rd\, Cadiz\, OH\, 43907\, United States
CATEGORIES:All Events,Past Events
ATTACH;FMTTYPE=image/png:https://themarkatthepark.com/wp-content/uploads/2025/07/Events-featured-image-1920x1080-5-1.png
END:VEVENT
BEGIN:VEVENT
DTSTART;TZID=America/New_York:20260816T170000
DTEND;TZID=America/New_York:20260816T230000
DTSTAMP:20260421T222220
CREATED:20250717T185036Z
LAST-MODIFIED:20260409T120847Z
UID:1021-1786899600-1786921200@themarkatthepark.com
SUMMARY:Backroads N' Campfires: Headliner Randy Houser
DESCRIPTION:The Mark at the Park presents Backroads N’ Campfires with headliner Randy Houser & Guests Craig Morgan\, Thomas Mac and Isaac Cole. \nThe First Annual Backroads N’ Campfires is a contury music concert event bringing together a power line up of seasoned stars and rising talent. Headlined by Randy Houser\, known for his soulful voice and chart topping hits like “Like a Cowboy” and “Boots On” the event promises a night of raw country energy and heartfelt story telling. \nJoining Houser on stage is Craig Morgan\, a country music veteran celebrated for his patriotic anthems and heartfelt ballads like “That’s What I Love About Sunday” and “Redneck Yacht Club”. Morgan adds a rich blend of experience and authenticity to the line up. \nThomas Mac\, a viral country sensation known for blending traditional roots with a modern edge\, will bring a younger energy and relatable charm to the show. \nKickstarting the night is Isaac Cole\, a rising star and former American Idol contestant\, whose strong vocals and orginal song writing are quickly earning him fans across the country scene. Isaac Cole is returning to The Mark at the Park for the second year in a row. \n\n\n5:00 PM – 5:45 PM \nIsaac Cole \n\n\n\n\n6:15 PM – 7:15 PM \nThomas Mac \n\n\n\n\n7:45 PM – 9:00 PM \nCraig Morgan \n\n\n\n\n9:30 PM – 10:45 PM \nRandy Houser \n\n\n 
URL:https://themarkatthepark.com/event/backroads-n-campfires-headliner-randy-houser/
LOCATION:The Mark at the Park at Sally Buffalo Park\, 43000 Industrial Park Rd\, Cadiz\, OH\, 43907\, United States
CATEGORIES:All Events,Past Events
ATTACH;FMTTYPE=image/png:https://themarkatthepark.com/wp-content/uploads/2025/07/Events-featured-image-1920x1080-6-1.png
END:VEVENT
BEGIN:VEVENT
DTSTART;TZID=America/New_York:20260831T190000
DTEND;TZID=America/New_York:20260831T210000
DTSTAMP:20260421T222220
CREATED:20250717T185841Z
LAST-MODIFIED:20260409T120839Z
UID:1025-1788202800-1788210000@themarkatthepark.com
SUMMARY:The Mark Presents: Lover (A Taylor Swift Tribute Band) Eras Tour Experience
DESCRIPTION:Don’t miss Lover – A Taylor Swift Tribute – An Eras Tour Experience. Presenting sponsor Williams Pipeline. Only $20 ticket. \nFood and Beverages will be available for sale. Please bring your own lawn chairs and blankets.
URL:https://themarkatthepark.com/event/the-mark-presents-lover-a-taylor-swift-tribute-band-eras-tour-experience/
LOCATION:The Mark at the Park at Sally Buffalo Park\, 43000 Industrial Park Rd\, Cadiz\, OH\, 43907\, United States
CATEGORIES:All Events,Past Events
ATTACH;FMTTYPE=image/png:https://themarkatthepark.com/wp-content/uploads/2025/07/Events-featured-image-1920x1080-7-1.png
END:VEVENT
END:VCALENDAR