BEGIN:VCALENDAR
VERSION:2.0
PRODID:-//The Mark at the Park - ECPv6.15.20//NONSGML v1.0//EN
CALSCALE:GREGORIAN
METHOD:PUBLISH
X-ORIGINAL-URL:https://themarkatthepark.com
X-WR-CALDESC:Events for The Mark at the Park
REFRESH-INTERVAL;VALUE=DURATION:PT1H
X-Robots-Tag:noindex
X-PUBLISHED-TTL:PT1H
BEGIN:VTIMEZONE
TZID:America/New_York
BEGIN:DAYLIGHT
TZOFFSETFROM:-0500
TZOFFSETTO:-0400
TZNAME:EDT
DTSTART:20250309T070000
END:DAYLIGHT
BEGIN:STANDARD
TZOFFSETFROM:-0400
TZOFFSETTO:-0500
TZNAME:EST
DTSTART:20251102T060000
END:STANDARD
BEGIN:DAYLIGHT
TZOFFSETFROM:-0500
TZOFFSETTO:-0400
TZNAME:EDT
DTSTART:20260308T070000
END:DAYLIGHT
BEGIN:STANDARD
TZOFFSETFROM:-0400
TZOFFSETTO:-0500
TZNAME:EST
DTSTART:20261101T060000
END:STANDARD
BEGIN:DAYLIGHT
TZOFFSETFROM:-0500
TZOFFSETTO:-0400
TZNAME:EDT
DTSTART:20270314T070000
END:DAYLIGHT
BEGIN:STANDARD
TZOFFSETFROM:-0400
TZOFFSETTO:-0500
TZNAME:EST
DTSTART:20271107T060000
END:STANDARD
END:VTIMEZONE
BEGIN:VEVENT
DTSTART;TZID=America/New_York:20260701T190000
DTEND;TZID=America/New_York:20260701T220000
DTSTAMP:20260421T204124
CREATED:20250612T121351Z
LAST-MODIFIED:20260409T120927Z
UID:451-1782932400-1782943200@themarkatthepark.com
SUMMARY:Blue Suede Shoes! The Ultimate Tribute to The King
DESCRIPTION:Starring Mike Albert as “Vegas” Elvis & Scot Bruce as the 1950’s rockabilly Elvis. Summer Concert Series SponsorWVU Medicine – Harrison Community Hospital. Presenting Sponsor Capital Health Nursing & Rehabilitation Centers. Free Concert – Food and Beverage will be available for sale. Please bring your own lawn chairs and blankets.
URL:https://themarkatthepark.com/event/blue-suede-shoes-the-ultimate-tribute-to-the-king/
LOCATION:The Mark at the Park at Sally Buffalo Park\, 43000 Industrial Park Rd\, Cadiz\, OH\, 43907\, United States
CATEGORIES:All Events,Past Events
ATTACH;FMTTYPE=image/png:https://themarkatthepark.com/wp-content/uploads/2025/06/Events-featured-image-1920x1080-1.png
END:VEVENT
BEGIN:VEVENT
DTSTART;TZID=America/New_York:20260711T190000
DTEND;TZID=America/New_York:20260711T223000
DTSTAMP:20260421T204124
CREATED:20250717T174037Z
LAST-MODIFIED:20260409T120920Z
UID:989-1783796400-1783809000@themarkatthepark.com
SUMMARY:The Mark Presents: Elton Rohn & Fleetwood Gold
DESCRIPTION:GET READY FOR A NIGHT TO REMEMBER! \nAn Ultimate Tribute to 2 of the biggest bands of the 70’s through present day\, celebrating the iconic sounds of Elton John & Fleetwood Mac with uncanny tributes by Elton Rohn and Fleetwood Gold! \nWho’s ready to rock out to “Tiny Dancer” and “Dreams”? Secure your spot now! Presenting sponsors Christopher’s and BellStores. Tickets only $20! \nPresenting sponsors Christopher’s and BellStores. \nFood and Beverages will be available for sale. Please bring your own lawn chairs and blankets. \n 
URL:https://themarkatthepark.com/event/the-mark-presents-elton-rohn-fleetwood-gold/
LOCATION:The Mark at the Park at Sally Buffalo Park\, 43000 Industrial Park Rd\, Cadiz\, OH\, 43907\, United States
CATEGORIES:All Events,Past Events
ATTACH;FMTTYPE=image/png:https://themarkatthepark.com/wp-content/uploads/2025/07/Events-featured-image-1920x1080-2-1.png
END:VEVENT
BEGIN:VEVENT
DTSTART;TZID=America/New_York:20260712T120000
DTEND;TZID=America/New_York:20260712T213000
DTSTAMP:20260421T204124
CREATED:20250717T175535Z
LAST-MODIFIED:20260409T120913Z
UID:996-1783857600-1783891800@themarkatthepark.com
SUMMARY:The Mark Presents Independence Day Food Truck and Firework Celebration
DESCRIPTION:Food Truck Festival and Fireworks! Join us at Sally Buffalo Park for a FREE day of music\, food and fireworks! Music all day starting at noon with Smalley Acoustic\, Across The Line\, Hart To Tell\, Hoard & Jones\, and headliner for all you Parrotheads\, Jimmy’s Buffet\, a tribute and celebration of Jimmy Buffett and his music. Yes\, there will be Margaritas for sale and we’ll be looking for the lost shaker of salt. The day concludes with Fireworks. \n\n\n12:30 PM – 1:00 PM \nSmalley Acoustic \n\n\n\n\n1:30 PM – 3:00 PM \nAcross The Line \n\n\n\n\n3:30 PM – 5:00 PM \nHart To Tell \n\n\n\n\n5:30 PM – 7:00 PM \nHoard & Jones \n\n\n\n\n8:00 PM – 9:30 PM \nJimmy’s Buffet (Jimmy Buffett Tribute)
URL:https://themarkatthepark.com/event/the-mark-presents-independence-day-food-truck-and-firework-celebration/
LOCATION:The Mark at the Park at Sally Buffalo Park\, 43000 Industrial Park Rd\, Cadiz\, OH\, 43907\, United States
CATEGORIES:All Events,Past Events
ATTACH;FMTTYPE=image/png:https://themarkatthepark.com/wp-content/uploads/2025/07/Events-featured-image-1920x1080-3-1.png
END:VEVENT
BEGIN:VEVENT
DTSTART;TZID=America/New_York:20260725T200000
DTEND;TZID=America/New_York:20260725T220000
DTSTAMP:20260421T204124
CREATED:20250717T182135Z
LAST-MODIFIED:20260409T120906Z
UID:1007-1785009600-1785016800@themarkatthepark.com
SUMMARY:The Mark Presents Radio Tokyo
DESCRIPTION:A Smokin’ night of Hip Hop/R&B/Pop Rock with Pittsburgh’s Radio Tokyo at The Mark! Let’s Dance!
URL:https://themarkatthepark.com/event/the-mark-presents-radio-tokyo/
LOCATION:The Mark at the Park at Sally Buffalo Park\, 43000 Industrial Park Rd\, Cadiz\, OH\, 43907\, United States
CATEGORIES:All Events,Past Events
ATTACH;FMTTYPE=image/png:https://themarkatthepark.com/wp-content/uploads/2025/07/Events-featured-image-1920x1080-4-1.png
END:VEVENT
END:VCALENDAR